BEGIN:VCALENDAR
VERSION:2.0
PRODID:-//tir-sportif-hv.com - ECPv6.15.13.1//NONSGML v1.0//EN
CALSCALE:GREGORIAN
METHOD:PUBLISH
X-ORIGINAL-URL:https://tir-sportif-hv.com
X-WR-CALDESC:Évènements pour tir-sportif-hv.com
REFRESH-INTERVAL;VALUE=DURATION:PT1H
X-Robots-Tag:noindex
X-PUBLISHED-TTL:PT1H
BEGIN:VTIMEZONE
TZID:Europe/Paris
BEGIN:DAYLIGHT
TZOFFSETFROM:+0100
TZOFFSETTO:+0200
TZNAME:CEST
DTSTART:20230326T010000
END:DAYLIGHT
BEGIN:STANDARD
TZOFFSETFROM:+0200
TZOFFSETTO:+0100
TZNAME:CET
DTSTART:20231029T010000
END:STANDARD
BEGIN:DAYLIGHT
TZOFFSETFROM:+0100
TZOFFSETTO:+0200
TZNAME:CEST
DTSTART:20240331T010000
END:DAYLIGHT
BEGIN:STANDARD
TZOFFSETFROM:+0200
TZOFFSETTO:+0100
TZNAME:CET
DTSTART:20241027T010000
END:STANDARD
BEGIN:DAYLIGHT
TZOFFSETFROM:+0100
TZOFFSETTO:+0200
TZNAME:CEST
DTSTART:20250330T010000
END:DAYLIGHT
BEGIN:STANDARD
TZOFFSETFROM:+0200
TZOFFSETTO:+0100
TZNAME:CET
DTSTART:20251026T010000
END:STANDARD
BEGIN:DAYLIGHT
TZOFFSETFROM:+0100
TZOFFSETTO:+0200
TZNAME:CEST
DTSTART:20260329T010000
END:DAYLIGHT
BEGIN:STANDARD
TZOFFSETFROM:+0200
TZOFFSETTO:+0100
TZNAME:CET
DTSTART:20261025T010000
END:STANDARD
END:VTIMEZONE
BEGIN:VEVENT
DTSTART;TZID=Europe/Paris:20251214T100000
DTEND;TZID=Europe/Paris:20251214T120000
DTSTAMP:20260425T181843
CREATED:20251120T093443Z
LAST-MODIFIED:20251120T093509Z
UID:1106-1765706400-1765713600@tir-sportif-hv.com
SUMMARY:portes ouvertes initiation tir sportif 10 mètres
DESCRIPTION:Dans le cadre du téléthon le club ouvre ses portes à toutes personnes de 8 ans et plus le dimanche 14 décembre de 10h à 12h \nPas d’inscription. \nSe présenter au club \n5 euros de participation reversés intégralement au téléthon \n 
URL:https://tir-sportif-hv.com/evenement/portes-ouvertes-initiation-tir-sportif-10-metres/
ATTACH;FMTTYPE=image/png:https://tir-sportif-hv.com/wp-content/uploads/2025/11/Telechargez-votre-photo2.png
END:VEVENT
BEGIN:VEVENT
DTSTART;TZID=Europe/Paris:20251213T000000
DTEND;TZID=Europe/Paris:20251213T000000
DTSTAMP:20260425T181843
CREATED:20251110T175530Z
LAST-MODIFIED:20251120T090105Z
UID:1094-1765584000-1765584000@tir-sportif-hv.com
SUMMARY:Compétition téléthon adultes 25 mètres
DESCRIPTION:une compétition amicale a lieu le samedi 13 décembre ouvert à tous les clubs de drôme Ardèche \nmédaille offert aux premiers \n5 euros par inscription qui seront reversés directement au Téléthon \nInformations auprès de Daniel \n07.88.77.40.33
URL:https://tir-sportif-hv.com/evenement/competition-telethon-adultes-25-metres/
ATTACH;FMTTYPE=image/png:https://tir-sportif-hv.com/wp-content/uploads/2025/11/Telechargez-votre-photo.png
END:VEVENT
BEGIN:VEVENT
DTSTART;TZID=Europe/Paris:20251210T000000
DTEND;TZID=Europe/Paris:20251210T000000
DTSTAMP:20260425T181843
CREATED:20251110T175040Z
LAST-MODIFIED:20251120T090240Z
UID:1089-1765324800-1765324800@tir-sportif-hv.com
SUMMARY:Compétition Téléthon École de tir
DESCRIPTION:  \nune compétition amicale a lieu le mercredi 10 décembre \nDurant les horaires de l’école de tir \ncoupe\, médaille et gouter offert aux participants \n5 euros par inscription qui seront reversés directement au Téléthon \nInformations auprès de René
URL:https://tir-sportif-hv.com/evenement/competition-telethon-ecole-de-tir/
ATTACH;FMTTYPE=image/jpeg:https://tir-sportif-hv.com/wp-content/uploads/2025/11/AFM_TELETHON_2025_Q-scaled.jpg
END:VEVENT
BEGIN:VEVENT
DTSTART;TZID=Europe/Paris:20250920T170000
DTEND;TZID=Europe/Paris:20250920T190000
DTSTAMP:20260425T181843
CREATED:20250525T104908Z
LAST-MODIFIED:20250525T104908Z
UID:1066-1758387600-1758394800@tir-sportif-hv.com
SUMMARY:Assemblée générale
DESCRIPTION:l’assemblée générale aura lieu le samedi 20 septembre à 17h \nun pot sera offert suite à la réunion \nUn courrier vous sera envoyé début septembre
URL:https://tir-sportif-hv.com/evenement/assemblee-generale/
END:VEVENT
BEGIN:VEVENT
DTSTART;TZID=Europe/Paris:20250714T080000
DTEND;TZID=Europe/Paris:20250821T220000
DTSTAMP:20260425T181843
CREATED:20250525T105828Z
LAST-MODIFIED:20250525T110025Z
UID:1076-1752480000-1755813600@tir-sportif-hv.com
SUMMARY:Fermeture estivale - sauf dimanches
DESCRIPTION:Le club sera fermé du samedi 14 juillet au jeudi 21 aout inclus. \nAttention les dimanches restent ouvert tout l’été ! \nnous sommes contraints de fermer en partie l’été faute de bénévoles
URL:https://tir-sportif-hv.com/evenement/fermeture-estival/
ATTACH;FMTTYPE=image/avif:https://tir-sportif-hv.com/wp-content/uploads/2025/05/estivale.avif
END:VEVENT
BEGIN:VEVENT
DTSTART;TZID=Europe/Paris:20250628T080000
DTEND;TZID=Europe/Paris:20250628T170000
DTSTAMP:20260425T181843
CREATED:20250330T094329Z
LAST-MODIFIED:20250330T094329Z
UID:1027-1751097600-1751130000@tir-sportif-hv.com
SUMMARY:Challenge "Hunter" 50 mètres - carabine 22 LR
DESCRIPTION:Challenge « Hunter » 50 mètres – carabine 22 LR \nle 28 juin 2025 \nPré inscription en cours\, l’organisation précise sera communiquée aux inscrits en fonction du nombre. \nProjet : repas\, convivialité … \n 
URL:https://tir-sportif-hv.com/evenement/challenge-hunter-50-metres-carabine-22-lr/
ATTACH;FMTTYPE=image/jpeg:https://tir-sportif-hv.com/wp-content/uploads/2025/03/450h300f_00001_CARABINE-HAMMERLI-FORCE-B1-NOYER-22LR.jpg
END:VEVENT
BEGIN:VEVENT
DTSTART;VALUE=DATE:20250608
DTEND;VALUE=DATE:20250609
DTSTAMP:20260425T181843
CREATED:20250222T073458Z
LAST-MODIFIED:20250330T093742Z
UID:1005-1749340800-1749427199@tir-sportif-hv.com
SUMMARY:Bourse aux armes
DESCRIPTION:2 jours où les armuriers du territoire seront présents pour présenter et vendre des armes \ndimanche 8 juin  salle polyvalente Henri Laroux d’ Empurany (07270) \n  \n \n 
URL:https://tir-sportif-hv.com/evenement/bourse-aux-armes/
ATTACH;FMTTYPE=image/jpeg:https://tir-sportif-hv.com/wp-content/uploads/2025/02/image.jpg
END:VEVENT
BEGIN:VEVENT
DTSTART;TZID=Europe/Paris:20250607T080000
DTEND;TZID=Europe/Paris:20250608T170000
DTSTAMP:20260425T181843
CREATED:20250531T155121Z
LAST-MODIFIED:20250531T155121Z
UID:1082-1749283200-1749402000@tir-sportif-hv.com
SUMMARY:Fermeture exceptionnelle du club
DESCRIPTION:bonjour à tous \navec la bourse aux armes les pas de tir seront fermés ce we 7 et 8 juin
URL:https://tir-sportif-hv.com/evenement/fermeture-exceptionnelle-du-club/
END:VEVENT
BEGIN:VEVENT
DTSTART;TZID=Europe/Paris:20250418T080000
DTEND;TZID=Europe/Paris:20250420T170000
DTSTAMP:20260425T181843
CREATED:20250114T193511Z
LAST-MODIFIED:20250114T193511Z
UID:998-1744963200-1745168400@tir-sportif-hv.com
SUMMARY:Championnat 18.19.20 avril épreuves départementaux
DESCRIPTION:
URL:https://tir-sportif-hv.com/evenement/championnat-18-19-20-avril-epreuves-departementaux/
END:VEVENT
BEGIN:VEVENT
DTSTART;VALUE=DATE:20250331
DTEND;VALUE=DATE:20250420
DTSTAMP:20260425T181843
CREATED:20250331T092101Z
LAST-MODIFIED:20250331T092101Z
UID:1054-1743379200-1745107199@tir-sportif-hv.com
SUMMARY:Passage à l'heure d'été - arrêt de la séance jeudi 20h15 - 22h
DESCRIPTION:Bonjour à tous \nle passage à l’heure d’été est fait la séance du jeudi à 20h 15 )à 22h s’arrête jusqu’en octobre comme habituellement
URL:https://tir-sportif-hv.com/evenement/passage-a-lheure-dete-arret-de-la-seance-jeudi-20h15-22h/
END:VEVENT
BEGIN:VEVENT
DTSTART;TZID=Europe/Paris:20250330T080000
DTEND;TZID=Europe/Paris:20250330T170000
DTSTAMP:20260425T181843
CREATED:20250330T094604Z
LAST-MODIFIED:20250525T104616Z
UID:1030-1743321600-1743354000@tir-sportif-hv.com
SUMMARY:ANNULER Challenge TAR 25 mètres
DESCRIPTION:Faute d’inscription \n  \nLe 24 mai 2025 un challenge TAR 25 mètres \nsont acceptés toutes les armes de poing \nInscriptions en cours\, n hésitez pas à faire des retours au club pour s’organiser \n 
URL:https://tir-sportif-hv.com/evenement/challenge-tar-25-metres/
ATTACH;FMTTYPE=image/jpeg:https://tir-sportif-hv.com/wp-content/uploads/2025/03/4596422-main-tenant-pistolet-visant-pret-a-tirer-arme-de-poing-pistolet-en-cartoon-illustration-vector-sur-fond-blanc-vectoriel.jpg
END:VEVENT
BEGIN:VEVENT
DTSTART;TZID=Europe/Paris:20250327T200000
DTEND;TZID=Europe/Paris:20250327T220000
DTSTAMP:20260425T181843
CREATED:20250319T210311Z
LAST-MODIFIED:20250319T210852Z
UID:1019-1743105600-1743112800@tir-sportif-hv.com
SUMMARY:Fermeture exceptionnelle
DESCRIPTION:Le club sera fermé jeudi 27 mars à partir de 20h \n 
URL:https://tir-sportif-hv.com/evenement/fermeture-exceptionnelle-2/
END:VEVENT
BEGIN:VEVENT
DTSTART;TZID=Europe/Paris:20250320T200000
DTEND;TZID=Europe/Paris:20250320T220000
DTSTAMP:20260425T181843
CREATED:20250319T210141Z
LAST-MODIFIED:20250319T210141Z
UID:1017-1742500800-1742508000@tir-sportif-hv.com
SUMMARY:fermeture exceptionnelle
DESCRIPTION:le créneau de 20h 15 à 22h sera fermé jeudi 20 mars \nfaute de disponibilités du comité directeur
URL:https://tir-sportif-hv.com/evenement/fermeture-exceptionnelle/
END:VEVENT
BEGIN:VEVENT
DTSTART;TZID=Europe/Paris:20250222T080000
DTEND;TZID=Europe/Paris:20250223T170000
DTSTAMP:20260425T181843
CREATED:20250114T193351Z
LAST-MODIFIED:20250114T193351Z
UID:996-1740211200-1740330000@tir-sportif-hv.com
SUMMARY:Championnat 22 et 23 février 2025 départementaux école de tir
DESCRIPTION:Le club restera ouvert comme d’habitude. \nles jeunes de l’école de tir seront confiés directement
URL:https://tir-sportif-hv.com/evenement/championnat-22-et-23-fevrier-2025-departementaux-ecole-de-tir/
END:VEVENT
BEGIN:VEVENT
DTSTART;TZID=Europe/Paris:20250210T080000
DTEND;TZID=Europe/Paris:20250215T170000
DTSTAMP:20260425T181843
CREATED:20250114T193741Z
LAST-MODIFIED:20250114T193741Z
UID:1000-1739174400-1739638800@tir-sportif-hv.com
SUMMARY:Championnat de France à Chateauroux
DESCRIPTION:l’occasion pour ceux qui le souhaitent d’aller encourager nos tireurs
URL:https://tir-sportif-hv.com/evenement/championnat-de-france-a-chateauroux/
END:VEVENT
BEGIN:VEVENT
DTSTART;TZID=Europe/Paris:20241224T080000
DTEND;TZID=Europe/Paris:20241224T170000
DTSTAMP:20260425T181843
CREATED:20241224T200714Z
LAST-MODIFIED:20241224T200714Z
UID:990-1735027200-1735059600@tir-sportif-hv.com
SUMMARY:Fermeture stand jeudi 26 décembre 20h15
DESCRIPTION:Bonjour \nNous n’avons pas de bénévole pour ouvrir le stand ce jeudi 26 décembre. \nVous souhaitant de joyeuses fêtes
URL:https://tir-sportif-hv.com/evenement/fermeture-stand-jeudi-26-decembre-20h15/
END:VEVENT
BEGIN:VEVENT
DTSTART;TZID=Europe/Paris:20241031T170000
DTEND;TZID=Europe/Paris:20241031T220000
DTSTAMP:20260425T181843
CREATED:20241015T190216Z
LAST-MODIFIED:20241015T191555Z
UID:978-1730394000-1730412000@tir-sportif-hv.com
SUMMARY:Pas d'ouverture du stand jeudi 31 octobre
DESCRIPTION:La séance du jeudi 31 octobre est annulée faute de personne du comité directeur pour ouvrir le stand.
URL:https://tir-sportif-hv.com/evenement/pas-douverture-du-stand-jeudi-31-octobre/
END:VEVENT
BEGIN:VEVENT
DTSTART;TZID=Europe/Paris:20241017T080000
DTEND;TZID=Europe/Paris:20241017T170000
DTSTAMP:20260425T181843
CREATED:20241017T095245Z
LAST-MODIFIED:20241017T095245Z
UID:986-1729152000-1729184400@tir-sportif-hv.com
SUMMARY:Annulation ouverture jeudi 17 octobre
DESCRIPTION:Bonjour suite à l’épisode cévenole et aux alertes préfectorales le stand ne sera pas ouvert aujourd’hui
URL:https://tir-sportif-hv.com/evenement/annulation-ouverture-jeudi-17-octobre/
END:VEVENT
BEGIN:VEVENT
DTSTART;VALUE=DATE:20241016
DTEND;VALUE=DATE:20241017
DTSTAMP:20260425T181843
CREATED:20241015T191228Z
LAST-MODIFIED:20241015T191752Z
UID:980-1729036800-1729036800@tir-sportif-hv.com
SUMMARY:Bon cadeau
DESCRIPTION:Le club propose des bons cadeaux dont le cout est de 50 euros pour une initiation guidée au tir sportif sur 10 mètres \nLa séance dure 1h30 avec 1 heure de tir (plombs et cibles fournis) et ensuite un temps d’échange et de visite des pas de tir 25 et 50 mètres \nfaire une demande au club par mail\, régler les 50 euros. Ensuite il s’agira de prendre rendez vous avec un entraineur sur une ouverture du club qui convient. Jeudi soir\, samedi am ou dimanche matin
URL:https://tir-sportif-hv.com/evenement/bon-cadeau/
END:VEVENT
BEGIN:VEVENT
DTSTART;TZID=Europe/Paris:20240928T170000
DTEND;TZID=Europe/Paris:20240928T190000
DTSTAMP:20260425T181843
CREATED:20240915T174829Z
LAST-MODIFIED:20240915T184301Z
UID:970-1727542800-1727550000@tir-sportif-hv.com
SUMMARY:ASSEMBLEE GENERALE
DESCRIPTION:ORDRE DU JOUR :\n\nRapports moral et financier 2023/2024\nSubventions et sponsors\nÉcole de tir\nProjets et budget prévisionnel 2024/2025\nTarif licence 2025/2026\nPréparation SAISON 2024/2025\nLicences 2024/2025\nCarnets de tir (présence obligatoire à cette réunion pour les possesseurs de ce carnet)\nFormations d’initiateurs\, d’arbitres\nRenouvellement des membres du bureau (les volontaires doivent se faire connaître auprès du président au plus tard en début d’A.G.)\nQuestions diverses\n\nPRÉSENCE INDISPENSABLE de tous les licenciés y compris les parents des jeunes de l’école de tir. \nEn cas d’absence merci de donner votre pouvoir à un autre licencié afin que l’assemblée générale soit valide. Pdf téléchargeable ci-dessous. \nPouvoir de vote – Assemblée Générale 28-09-2024 \n  \n\nLe Président J.L. DANEROL \nLe 05/09/2024 \nSigné : J.L. Danérol
URL:https://tir-sportif-hv.com/evenement/assemblee-generale-2/
LOCATION:TSHV\, 190 chemin Bruno Payet\, Lamastre\, 07270\, France
ATTACH;FMTTYPE=image/jpeg:https://tir-sportif-hv.com/wp-content/uploads/2024/09/Banniere-Assemblee-generale-28-09-24.jpg
END:VEVENT
BEGIN:VEVENT
DTSTART;VALUE=DATE:20240815
DTEND;VALUE=DATE:20241001
DTSTAMP:20260425T181843
CREATED:20240701T092941Z
LAST-MODIFIED:20240701T093114Z
UID:888-1723680000-1727740799@tir-sportif-hv.com
SUMMARY:Inscription nouvelle saison 2024-25
DESCRIPTION:Bonjour à tous \nnous prendrons les inscriptions à partir de fin aout\, début septembre. \nEn attendant penser à télécharger votre certificat médical sur Eden et à faire votre rendez vous de médecin
URL:https://tir-sportif-hv.com/evenement/inscription-nouvelle-saison-2024-25/
END:VEVENT
BEGIN:VEVENT
DTSTART;TZID=Europe/Paris:20240714T080000
DTEND;TZID=Europe/Paris:20240817T170000
DTSTAMP:20260425T181843
CREATED:20240701T093631Z
LAST-MODIFIED:20240701T093631Z
UID:891-1720944000-1723914000@tir-sportif-hv.com
SUMMARY:Fermeture été
DESCRIPTION:Par manque de disponibilité des bénévoles pour ouvrir le stand l’été et au vu du peu de tireurs le stand est fermé chaque année entre le 14 juillet et le 17 aout. \nCette année le créneau du dimanche restera ouvert durant cette période
URL:https://tir-sportif-hv.com/evenement/fermeture-ete/
ATTACH;FMTTYPE=image/jpeg:https://tir-sportif-hv.com/wp-content/uploads/2024/07/th.jpg
END:VEVENT
BEGIN:VEVENT
DTSTART;VALUE=DATE:20240713
DTEND;VALUE=DATE:20240714
DTSTAMP:20260425T181843
CREATED:20240701T092512Z
LAST-MODIFIED:20240701T092512Z
UID:886-1720828800-1720915199@tir-sportif-hv.com
SUMMARY:JOURNEE DE TIR DE PRECISION SUR APPUIS 13 JUILLET
DESCRIPTION:Dernière semaine pour vous inscrire pour la journée de « tir de précision sur appuis » à 50 m carabine 22 LR\, qui se déroulera au club le 13 juillet 2024 de 9h à 17h environ.\n \nInscriptions et renseignements auprès de Franck BRUYERE 06 24 88 13 41\n\n \nOn vous attend nombreux.\n \nLes organisateurs : Franck\, Didier\, Daniel
URL:https://tir-sportif-hv.com/evenement/journee-de-tir-de-precision-sur-appuis-13-juillet/
END:VEVENT
BEGIN:VEVENT
DTSTART;TZID=Europe/Paris:20240419T080000
DTEND;TZID=Europe/Paris:20240421T170000
DTSTAMP:20260425T181843
CREATED:20240320T070254Z
LAST-MODIFIED:20240411T184818Z
UID:421-1713513600-1713718800@tir-sportif-hv.com
SUMMARY:Départementaux 25/50m Lamastre les 19\, 20 et 21 avril 2024
DESCRIPTION:Vendredi 19 Avril  \n25m : \n18h45 Pistolet 25m\, Percussion centrale \nSamedi 20 Avril : \n25m : \n09h30 Pistolet 25m\, Percussion centrale \n14h00 Pistolet standard \n16H00 Pistolet 25m\, Percussion centrale \n50m : \n09h30 Match anglais\, 3/20\, Pistolet libre \n14h00 Match anglais\, 3/20\, Pistolet libre \nDimanche 21 Avril : \n25m : \n09h30 Pistolet 25m\, Percussion centrale \n12h00 VO \n14h00 Pistolet standard \n16H00 Pistolet 25m\, Percussion centrale \n50m : \n09h30 Match anglais\, 3/20\, Pistolet libre \nPour les inscriptions prendre contact avec le TSHV par mail :  \ntshv07270@orange.fr ou par téléphone 04-75-06-40-24 \nle mardi\, mercredi\, jeudi et samedi de 17h30 à 19h ou le dimanche de 10h30 à 12h.
URL:https://tir-sportif-hv.com/evenement/test-competition/
LOCATION:TSHV\, 190 chemin Bruno Payet\, Lamastre\, 07270\, France
ATTACH;FMTTYPE=image/jpeg:https://tir-sportif-hv.com/wp-content/uploads/2024/03/20240316_0088.jpg
END:VEVENT
END:VCALENDAR